BEGIN:VCALENDAR
VERSION:2.0
PRODID:-//ChamberMaster//Event Calendar 2.0//EN
METHOD:PUBLISH
X-PUBLISHED-TTL:P1H
REFRESH-INTERVAL:P1H
CALSCALE:GREGORIAN
BEGIN:VTIMEZONE
TZID:America/New_York
BEGIN:DAYLIGHT
RRULE:FREQ=YEARLY;BYMONTH=3;BYDAY=2SU
DTSTART:20070101T000000
TZOFFSETFROM:-0500
TZOFFSETTO:-0400
TZNAME:Eastern Daylight Time
END:DAYLIGHT
BEGIN:STANDARD
RRULE:FREQ=YEARLY;BYMONTH=11;BYDAY=1SU
DTSTART:20070101T000000
TZOFFSETFROM:-0400
TZOFFSETTO:-0500
TZNAME:Eastern Standard Time
END:STANDARD
END:VTIMEZONE
BEGIN:VEVENT
DTSTART;TZID=America/New_York:20260414T180000
DTEND;TZID=America/New_York:20260414T193000
X-MICROSOFT-CDO-ALLDAYEVENT:FALSE
SUMMARY:Detroit Chapter Council of Equipment & Maintenance
DESCRIPTION:Subject: Take Proactive Steps-- Reduce the Likelihood of an OSHA Audit. Speaker: Clate Bogan\, Anderson 360
X-ALT-DESC;FMTTYPE=text/html:<!DOCTYPE html><html><head><title></title></head><body aria-disabled="false"><p>Subject: Take Proactive Steps-- Reduce the Likelihood of an OSHA Audit. Speaker: Clate Bogan\, Anderson 360</p></body></html>
LOCATION:107 S. Groesbeck Hwy. Mt. Clemens MI 48043
UID:e.3022.1419749
SEQUENCE:3
DTSTAMP:20260422T150847Z
URL:https://michigantruckingassociation.growthzoneapp.com/events/Details/detroit-chapter-council-of-equipment-maintenance-1678118?sourceTypeId=Hub
END:VEVENT
END:VCALENDAR
