BEGIN:VCALENDAR
VERSION:2.0
PRODID:-//ChamberMaster//Event Calendar 2.0//EN
METHOD:PUBLISH
X-PUBLISHED-TTL:P1H
REFRESH-INTERVAL:P1H
CALSCALE:GREGORIAN
BEGIN:VTIMEZONE
TZID:America/New_York
BEGIN:DAYLIGHT
RRULE:FREQ=YEARLY;BYMONTH=3;BYDAY=2SU
DTSTART:20070101T000000
TZOFFSETFROM:-0500
TZOFFSETTO:-0400
TZNAME:Eastern Daylight Time
END:DAYLIGHT
BEGIN:STANDARD
RRULE:FREQ=YEARLY;BYMONTH=11;BYDAY=1SU
DTSTART:20070101T000000
TZOFFSETFROM:-0400
TZOFFSETTO:-0500
TZNAME:Eastern Standard Time
END:STANDARD
END:VTIMEZONE
BEGIN:VEVENT
DTSTART;TZID=America/New_York:20260505T090000
DTEND;TZID=America/New_York:20260505T123000
X-MICROSOFT-CDO-ALLDAYEVENT:FALSE
SUMMARY:Western Chapter Council of Safety Management Meeting
DESCRIPTION:Westbound I-96 Ionia scale tour and mock DOT inspection
X-ALT-DESC;FMTTYPE=text/html:Westbound I-96 Ionia scale tour and mock DOT inspection
LOCATION:Ionia MI
UID:e.3022.1429556
SEQUENCE:3
DTSTAMP:20260422T150847Z
URL:https://michigantruckingassociation.growthzoneapp.com/events/Details/western-chapter-council-of-safety-management-meeting-1691072?sourceTypeId=Hub
END:VEVENT
END:VCALENDAR
